BEGIN:VCALENDAR
VERSION:2.0
PRODID:-//CCVTH e.V. - ECPv6.15.20//NONSGML v1.0//EN
CALSCALE:GREGORIAN
METHOD:PUBLISH
X-WR-CALNAME:CCVTH e.V.
X-ORIGINAL-URL:https://cheersportthueringen.de
X-WR-CALDESC:Veranstaltungen für CCVTH e.V.
REFRESH-INTERVAL;VALUE=DURATION:PT1H
X-Robots-Tag:noindex
X-PUBLISHED-TTL:PT1H
BEGIN:VTIMEZONE
TZID:Europe/Berlin
BEGIN:DAYLIGHT
TZOFFSETFROM:+0100
TZOFFSETTO:+0200
TZNAME:CEST
DTSTART:20220327T010000
END:DAYLIGHT
BEGIN:STANDARD
TZOFFSETFROM:+0200
TZOFFSETTO:+0100
TZNAME:CET
DTSTART:20221030T010000
END:STANDARD
BEGIN:DAYLIGHT
TZOFFSETFROM:+0100
TZOFFSETTO:+0200
TZNAME:CEST
DTSTART:20230326T010000
END:DAYLIGHT
BEGIN:STANDARD
TZOFFSETFROM:+0200
TZOFFSETTO:+0100
TZNAME:CET
DTSTART:20231029T010000
END:STANDARD
BEGIN:DAYLIGHT
TZOFFSETFROM:+0100
TZOFFSETTO:+0200
TZNAME:CEST
DTSTART:20240331T010000
END:DAYLIGHT
BEGIN:STANDARD
TZOFFSETFROM:+0200
TZOFFSETTO:+0100
TZNAME:CET
DTSTART:20241027T010000
END:STANDARD
BEGIN:DAYLIGHT
TZOFFSETFROM:+0100
TZOFFSETTO:+0200
TZNAME:CEST
DTSTART:20250330T010000
END:DAYLIGHT
BEGIN:STANDARD
TZOFFSETFROM:+0200
TZOFFSETTO:+0100
TZNAME:CET
DTSTART:20251026T010000
END:STANDARD
BEGIN:DAYLIGHT
TZOFFSETFROM:+0100
TZOFFSETTO:+0200
TZNAME:CEST
DTSTART:20260329T010000
END:DAYLIGHT
BEGIN:STANDARD
TZOFFSETFROM:+0200
TZOFFSETTO:+0100
TZNAME:CET
DTSTART:20261025T010000
END:STANDARD
END:VTIMEZONE
BEGIN:VEVENT
DTSTART;VALUE=DATE:20250831
DTEND;VALUE=DATE:20250901
DTSTAMP:20260422T182032
CREATED:20250816T080005Z
LAST-MODIFIED:20250816T080005Z
UID:1105-1756598400-1756684799@cheersportthueringen.de
SUMMARY:Sichtungstraining
DESCRIPTION:Das Sichtungstraining für die Talentstützpunktsaison 2025/2026 findet am 31. August in Jena statt. \nAnmeldung zum Sichtungstraining:\nHIER \nDie Talentfördergruppe richtet sich an SportlerInnen der Altersklasse 2016-2010.\nDie Sichtung besteht aus einem cheerspezifischen Teil und dem „Deutschen Motorik Test“.\nFür den cheerspezifischen Teil muss bei der diesjährigen Sichtung folgende Routine präsentiert und dementsprechend in Vorbereitung eigenständig erlernt werden. \nRoutine: HIER \nCountsheet: HIER \nMusik: HIER
URL:https://cheersportthueringen.de/event/sichtungstraining/
LOCATION:Jena Sportforum\, Am Stadion 2\, Jena\, Thüringen\, 07749\, Deutschland
END:VEVENT
BEGIN:VEVENT
DTSTART;VALUE=DATE:20250823
DTEND;VALUE=DATE:20250825
DTSTAMP:20260422T182032
CREATED:20250816T081937Z
LAST-MODIFIED:20250816T081937Z
UID:1110-1755907200-1756079999@cheersportthueringen.de
SUMMARY:Verbandscamp
DESCRIPTION:
URL:https://cheersportthueringen.de/event/verbandscamp-2/
LOCATION:Jena Sportforum\, Am Stadion 2\, Jena\, Thüringen\, 07749\, Deutschland
END:VEVENT
BEGIN:VEVENT
DTSTART;TZID=Europe/Berlin:20250216T150000
DTEND;TZID=Europe/Berlin:20250216T173000
DTSTAMP:20260422T182032
CREATED:20250119T195247Z
LAST-MODIFIED:20250119T195247Z
UID:1080-1739718000-1739727000@cheersportthueringen.de
SUMMARY:Landes Verbandstag
DESCRIPTION:Liebe Mitglieder des Cheerleading und Cheerperformance Verbandes Thüringen e.V.\, \nhiermit laden wir Euch herzlich zum offiziellen Verbandstag des CCVThüringen e.V. ein.
URL:https://cheersportthueringen.de/event/landes-verbandstag/
LOCATION:07751 Jena\, 07751\, Germany
END:VEVENT
BEGIN:VEVENT
DTSTART;TZID=Europe/Berlin:20250216T140000
DTEND;TZID=Europe/Berlin:20250216T150000
DTSTAMP:20260422T182032
CREATED:20250119T195231Z
LAST-MODIFIED:20250119T195231Z
UID:1084-1739714400-1739718000@cheersportthueringen.de
SUMMARY:Vereinsjugendvertreter des CCVTH e.V.
DESCRIPTION:Liebe Jugendmitglieder & Vereinsjugendvertreter des CCVTH e.V.\, \nhiermit laden wir Euch herzlich zum offiziellen Jugend-Verbandstag des CCJTH ein.
URL:https://cheersportthueringen.de/event/vereinsjugendvertreter-des-ccvth-e-v/
LOCATION:07751 Jena\, 07751\, Germany
END:VEVENT
BEGIN:VEVENT
DTSTART;TZID=Europe/Berlin:20241130T080000
DTEND;TZID=Europe/Berlin:20241130T170000
DTSTAMP:20260422T182032
CREATED:20240820T155159Z
LAST-MODIFIED:20241201T202026Z
UID:1035-1732953600-1732986000@cheersportthueringen.de
SUMMARY:Landesmeisterschaft  Sachsen Anhalt/ Thüringen 2024
DESCRIPTION:Deadlines Landesmeisterschaft\n\n\n\n \n\n\n\n\n\n\n\n\nStarterliste\n\n\n\nKlicke HIER \n\n\n\n\n\n\n\n\nZeitplan\n\n\n\nKlicke HIER \n\n\n\n\n\n\n\n\nTeilnehmer Informationen\n\n\n\nKlick HIER \n\n\n\n\n\n\n\n\nInformationen für Zuschauer\n\n\n\nWir sind zu beiden Sessions ausverkauft\, daher wird es keine Tageskasse geben. \nHier findet ihr die Zuschauerinfos > \n\n\n\n\n\n\n\n\nErgebnislisten\n\n\n\n\nErgebnisse LM Thüringen 2024\nErgebnisse LM Sachsen Anhalt 2024
URL:https://cheersportthueringen.de/event/landesmeisterschafft-sachsen-anhalt-thueringen-2024/
LOCATION:Panndorfhalle\, Neue Str. 23\, Gera\, Thüringen\, 07545\, Deutschland
END:VEVENT
BEGIN:VEVENT
DTSTART;TZID=Europe/Berlin:20241009T080000
DTEND;TZID=Europe/Berlin:20241211T150000
DTSTAMP:20260422T182032
CREATED:20240820T160235Z
LAST-MODIFIED:20240820T160235Z
UID:1042-1728460800-1733929200@cheersportthueringen.de
SUMMARY:Youth Camp 2024
DESCRIPTION:
URL:https://cheersportthueringen.de/event/youth-camp-2024/
LOCATION:Jena Sportforum\, Am Stadion 2\, Jena\, Thüringen\, 07749\, Deutschland
ATTACH;FMTTYPE=image/jpeg:https://cheersportthueringen.de/file/uploads/2024/08/Youth-Camp-2024.jpg
END:VEVENT
BEGIN:VEVENT
DTSTART;TZID=Europe/Berlin:20240810T080000
DTEND;TZID=Europe/Berlin:20240811T090000
DTSTAMP:20260422T182032
CREATED:20240310T160254Z
LAST-MODIFIED:20240310T160254Z
UID:1027-1723276800-1723366800@cheersportthueringen.de
SUMMARY:Verbandscamp
DESCRIPTION:
URL:https://cheersportthueringen.de/event/verbandscamp/
LOCATION:Jena Sportforum\, Am Stadion 2\, Jena\, Thüringen\, 07749\, Deutschland
END:VEVENT
BEGIN:VEVENT
DTSTART;TZID=Europe/Berlin:20231209T080000
DTEND;TZID=Europe/Berlin:20231209T170000
DTSTAMP:20260422T182032
CREATED:20231018T160751Z
LAST-MODIFIED:20231124T205548Z
UID:703-1702108800-1702141200@cheersportthueringen.de
SUMMARY:Landesmeisterschaft 2023
DESCRIPTION:Landesmeisterschaft von CCVSA e.V. und CCVTH e. V.
URL:https://cheersportthueringen.de/event/landesmeisterschafft-2023/
LOCATION:Harzlandhalle\, Harzburger Straße 24\, Ilsenburg\, Sachsen Anhalt\, 38871\, Deutschland
END:VEVENT
END:VCALENDAR